BEGIN:VCALENDAR
VERSION:2.0
PRODID:-//HRNK - ECPv6.15.20//NONSGML v1.0//EN
CALSCALE:GREGORIAN
METHOD:PUBLISH
X-WR-CALNAME:HRNK
X-ORIGINAL-URL:https://www.hrnk.org
X-WR-CALDESC:Events for HRNK
REFRESH-INTERVAL;VALUE=DURATION:PT1H
X-Robots-Tag:noindex
X-PUBLISHED-TTL:PT1H
BEGIN:VTIMEZONE
TZID:America/New_York
BEGIN:DAYLIGHT
TZOFFSETFROM:-0500
TZOFFSETTO:-0400
TZNAME:EDT
DTSTART:20210314T070000
END:DAYLIGHT
BEGIN:STANDARD
TZOFFSETFROM:-0400
TZOFFSETTO:-0500
TZNAME:EST
DTSTART:20211107T060000
END:STANDARD
BEGIN:DAYLIGHT
TZOFFSETFROM:-0500
TZOFFSETTO:-0400
TZNAME:EDT
DTSTART:20220313T070000
END:DAYLIGHT
BEGIN:STANDARD
TZOFFSETFROM:-0400
TZOFFSETTO:-0500
TZNAME:EST
DTSTART:20221106T060000
END:STANDARD
BEGIN:DAYLIGHT
TZOFFSETFROM:-0500
TZOFFSETTO:-0400
TZNAME:EDT
DTSTART:20230312T070000
END:DAYLIGHT
BEGIN:STANDARD
TZOFFSETFROM:-0400
TZOFFSETTO:-0500
TZNAME:EST
DTSTART:20231105T060000
END:STANDARD
END:VTIMEZONE
BEGIN:VEVENT
DTSTART;TZID=America/New_York:20221116T130000
DTEND;TZID=America/New_York:20221116T140000
DTSTAMP:20260423T043617
CREATED:20221129T233800Z
LAST-MODIFIED:20230109T180231Z
UID:725661-1668603600-1668607200@www.hrnk.org
SUMMARY:North Korea and its Regime
DESCRIPTION:Dear Friends of HRNK\, \nYou are kindly invited to participate in a hybrid lecture\, “North Korea and its Regime\,” organized by the Dutch United Nations Student Association (SIB Amsterdam) and the Committee for Human Rights in North Korea (HRNK). \nThe lecture will highlight HRNK’s role as a North Korean human rights advocate\, the Kim regime and Juche ideology\, human rights violations in North Korea\, and what can be done by the general public. \nThis hybrid event will be held on Wednesday\, 16 November 1 PM (EST) / 7 PM (CET). The physical event will be hosted by SIB in Amsterdam\, the Netherlands (UvA Roeterseilandcampus\, Roetersstraat 11). It will also be live streamed on Zoom. \nFor further information\, please contact SIB Amsterdam at info@sibamsterdam.nl.
URL:https://www.hrnk.org/event/north-korea-and-its-regime/
LOCATION:UvA Roeterseilandcampus / Zoom (virtual)\, United States
CATEGORIES:HRNK Events
END:VEVENT
END:VCALENDAR