BEGIN:VCALENDAR
VERSION:2.0
PRODID:-//HRNK - ECPv6.15.20//NONSGML v1.0//EN
CALSCALE:GREGORIAN
METHOD:PUBLISH
X-WR-CALNAME:HRNK
X-ORIGINAL-URL:https://www.hrnk.org
X-WR-CALDESC:Events for HRNK
REFRESH-INTERVAL;VALUE=DURATION:PT1H
X-Robots-Tag:noindex
X-PUBLISHED-TTL:PT1H
BEGIN:VTIMEZONE
TZID:America/New_York
BEGIN:DAYLIGHT
TZOFFSETFROM:-0500
TZOFFSETTO:-0400
TZNAME:EDT
DTSTART:20210314T070000
END:DAYLIGHT
BEGIN:STANDARD
TZOFFSETFROM:-0400
TZOFFSETTO:-0500
TZNAME:EST
DTSTART:20211107T060000
END:STANDARD
BEGIN:DAYLIGHT
TZOFFSETFROM:-0500
TZOFFSETTO:-0400
TZNAME:EDT
DTSTART:20220313T070000
END:DAYLIGHT
BEGIN:STANDARD
TZOFFSETFROM:-0400
TZOFFSETTO:-0500
TZNAME:EST
DTSTART:20221106T060000
END:STANDARD
BEGIN:DAYLIGHT
TZOFFSETFROM:-0500
TZOFFSETTO:-0400
TZNAME:EDT
DTSTART:20230312T070000
END:DAYLIGHT
BEGIN:STANDARD
TZOFFSETFROM:-0400
TZOFFSETTO:-0500
TZNAME:EST
DTSTART:20231105T060000
END:STANDARD
END:VTIMEZONE
BEGIN:VEVENT
DTSTART;TZID=America/New_York:20221028T131500
DTEND;TZID=America/New_York:20221028T144500
DTSTAMP:20260421T085432
CREATED:20221129T233551Z
LAST-MODIFIED:20221220T025341Z
UID:725658-1666962900-1666968300@www.hrnk.org
SUMMARY:Investigating DPRK Human Rights: Satellite Imagery\, Lines of Responsibility\, Accountability
DESCRIPTION:The Committee for Human Rights in North Korea (HRNK)\, The Jacob Blaustein Institute for the Advancement of Human Rights (JBI)\, the Permanent Mission of Lithuania to the United Nations\, the Permanent Mission of the Czech Republic to the United Nations\, and the European Union Delegation to the UN hosted a side-event\, “Investigating the DPRK Human Rights: Satellite Imagery\, Lines of Responsibility\, Accountability” on Friday\, 28th October 2022\, 1:15-2:45 PM (EST) in a hybrid format: virtually on Zoom and in-person at the premises of the Permanent Mission of Lithuania to the UN. \nThis event highlighted the human rights infringements and crimes against humanity perpetrated at DPRK detention facilities as well as the chain of command and control responsible for those violations\, in order to emphasize the importance of human rights accountability in the DPRK. \nFollowing presentations by ROK Ambassador-at-Large Lee Shin-wha and UN Special Rapporteur on the human rights situation in the DPRK Dr. Elizabeth Salmón\, the event featured briefings by HRNK Senior Advisors Joseph S. Bermudez\, Jr. and Robert Collins\, based on an ongoing HRNK investigation of DPRK detention facilities\, which uses a methodology combining satellite imagery\, witness testimony\, and open-source research. \nOver three decades since the end of the Cold War\, the DPRK has persisted as an egregious human rights violator. In the third decade of the 21st century\, the DPRK continues to run a system of political prison camps and other unlawful detention facilities. Up to 200\,000 men\, women\, and children are imprisoned at the DPRK’s political prison camps\, pursuant to a feudal-inspired system of guilt-by-association\, which punishes up to three generations for the perceived wrongdoing of one family member. \nTo this day\, the DPRK continues to discriminate against its own citizens\, based on the songbun system of perceived loyalty-based social classification. To procure the resources it needs to develop its nuclear and missile programs and to keep key elites’ content through access to luxury goods and hard currency from the outside world\, the DPRK continues to exploit and oppress its people at home and abroad. This side event aimed to draw attention to the worsening human rights situation in the DPRK as well as the deepening rift between the degrading human security situation of North Koreans and the continued obstinate focusing of resources not on the people\, but on the development and testing of nuclear weapons and ballistic missiles. \nProgram Agenda \nModerator: Greg Scarlatoiu\, HRNK Executive Director \nWelcoming Remarks \n\nH.E. Rytis Paulauskas\, Ambassador\, Permanent Representative of Lithuania to the United Nations\nH.E. Jakub Kulhánek\, Ambassador\, Permanent Representative of the Czech Republic to the United Nations\nH.E. Hwang Joon-kook\, Ambassador\, Permanent Representative of the Republic of Korea to the United Nations\n\nPart I: DPRK Human Rights: Past\, Present\, Future \n\nH.E. Lee Shin-wha\, Ambassador-at-Large for North Korean Human Rights\, Republic of Korea\nDr. Elizabeth Salmón\, UN Special Rapporteur on the situation of human rights in the DPRK\n\nPart II: Satellite Imagery\, Lines of Responsibility\, Accountability \n\nJoseph S. Bermudez Jr.\, HRNK Senior Advisor\nRobert Collins\, HRNK Senior Advisor\n\nQ&A Session \nConcluding Remarks \n\nGreg Scarlatoiu\, HRNK Executive Director
URL:https://www.hrnk.org/event/investigating-dprk-human-rights-satellite-imagery-lines-of-responsibility-accountability/
LOCATION:Permanent Mission of Lithuania to the UN in New York / Zoom (virtual)\, United States
CATEGORIES:HRNK Events
END:VEVENT
END:VCALENDAR