BEGIN:VCALENDAR
VERSION:2.0
PRODID:-//HRNK - ECPv6.15.20//NONSGML v1.0//EN
CALSCALE:GREGORIAN
METHOD:PUBLISH
X-ORIGINAL-URL:https://www.hrnk.org
X-WR-CALDESC:Events for HRNK
REFRESH-INTERVAL;VALUE=DURATION:PT1H
X-Robots-Tag:noindex
X-PUBLISHED-TTL:PT1H
BEGIN:VTIMEZONE
TZID:America/New_York
BEGIN:DAYLIGHT
TZOFFSETFROM:-0500
TZOFFSETTO:-0400
TZNAME:EDT
DTSTART:20200308T070000
END:DAYLIGHT
BEGIN:STANDARD
TZOFFSETFROM:-0400
TZOFFSETTO:-0500
TZNAME:EST
DTSTART:20201101T060000
END:STANDARD
BEGIN:DAYLIGHT
TZOFFSETFROM:-0500
TZOFFSETTO:-0400
TZNAME:EDT
DTSTART:20210314T070000
END:DAYLIGHT
BEGIN:STANDARD
TZOFFSETFROM:-0400
TZOFFSETTO:-0500
TZNAME:EST
DTSTART:20211107T060000
END:STANDARD
BEGIN:DAYLIGHT
TZOFFSETFROM:-0500
TZOFFSETTO:-0400
TZNAME:EDT
DTSTART:20220313T070000
END:DAYLIGHT
BEGIN:STANDARD
TZOFFSETFROM:-0400
TZOFFSETTO:-0500
TZNAME:EST
DTSTART:20221106T060000
END:STANDARD
END:VTIMEZONE
BEGIN:VEVENT
DTSTART;TZID=America/New_York:20210125T180000
DTEND;TZID=America/New_York:20211225T190000
DTSTAMP:20260422T010320
CREATED:20221107T172920Z
LAST-MODIFIED:20221220T032443Z
UID:725536-1611597600-1640458800@www.hrnk.org
SUMMARY:The North Korean Abduction Issue: An Update
DESCRIPTION:This event will be held under the Chatham House Rule \nRSVP \nFeaturing: \nDaiji Yamaguchi\nDirector of Policy\, Headquarters for the Abductions Issue\, Government of Japan \nModerator: \nGreg Scarlatoiu\nExecutive Director\, HRNK \nWhen a meeting\, or part thereof\, is held under the Chatham House Rule\, participants are free to use the information received\, but neither the identity nor the affiliation of the speaker(s)\, nor that of any other participant\, may be revealed. \nDirector Daiji Yamaguchi will provide a brief overview and update on the issue of abductions of Japanese citizens and nationals of other countries by North Korea. This virtual event\, conducted via Zoom\, will be open to the public\, including press correspondents. \nThe Zoom credentials will be sent to you shortly before the program. \nPlease email Rosa Park\, HRNK Director of Programs and Editor\, at rosapark@hrnk.org if you have any questions or concerns.
URL:https://www.hrnk.org/event/the-north-korean-abduction-issue-an-update/
LOCATION:Zoom
CATEGORIES:HRNK Events
ATTACH;FMTTYPE=image/png:https://www.hrnk.org/wp-content/uploads/2022/11/Screen-Shot-2021-05-11-at-2_19_12-PM1.png
END:VEVENT
BEGIN:VEVENT
DTSTART;TZID=America/New_York:20211222T110000
DTEND;TZID=America/New_York:20211222T120000
DTSTAMP:20260422T010320
CREATED:20221129T201847Z
LAST-MODIFIED:20221220T022802Z
UID:725637-1640170800-1640174400@www.hrnk.org
SUMMARY:North Korea’s Political Prison Camp Kwan-li-so No. 14: Update 1
DESCRIPTION:HRNK will be featuring its latest report under a long-term project employing satellite imagery analysis and former political prisoner testimony to shed light on human suffering in North Korea’s prison camps. \nThe report launch will be conducted virtually\, via Zoom. Login information will be shared with confirmed participants the day prior to the event. \nThe event will be open to the press and on-the-record. \nPlease email Raymond Ha\, HRNK Director of Operations and Research\, at raymond.ha@hrnk.org if you have any questions or concerns.
URL:https://www.hrnk.org/event/north-koreas-political-prison-camp-kwan-li-so-no-14-update-1/
LOCATION:Zoom
CATEGORIES:HRNK Events
END:VEVENT
END:VCALENDAR