BEGIN:VCALENDAR
VERSION:2.0
PRODID:-//HRNK - ECPv6.15.20//NONSGML v1.0//EN
CALSCALE:GREGORIAN
METHOD:PUBLISH
X-ORIGINAL-URL:https://www.hrnk.org
X-WR-CALDESC:Events for HRNK
REFRESH-INTERVAL;VALUE=DURATION:PT1H
X-Robots-Tag:noindex
X-PUBLISHED-TTL:PT1H
BEGIN:VTIMEZONE
TZID:America/New_York
BEGIN:DAYLIGHT
TZOFFSETFROM:-0500
TZOFFSETTO:-0400
TZNAME:EDT
DTSTART:20200308T070000
END:DAYLIGHT
BEGIN:STANDARD
TZOFFSETFROM:-0400
TZOFFSETTO:-0500
TZNAME:EST
DTSTART:20201101T060000
END:STANDARD
BEGIN:DAYLIGHT
TZOFFSETFROM:-0500
TZOFFSETTO:-0400
TZNAME:EDT
DTSTART:20210314T070000
END:DAYLIGHT
BEGIN:STANDARD
TZOFFSETFROM:-0400
TZOFFSETTO:-0500
TZNAME:EST
DTSTART:20211107T060000
END:STANDARD
BEGIN:DAYLIGHT
TZOFFSETFROM:-0500
TZOFFSETTO:-0400
TZNAME:EDT
DTSTART:20220313T070000
END:DAYLIGHT
BEGIN:STANDARD
TZOFFSETFROM:-0400
TZOFFSETTO:-0500
TZNAME:EST
DTSTART:20221106T060000
END:STANDARD
END:VTIMEZONE
BEGIN:VEVENT
DTSTART;TZID=America/New_York:20210125T180000
DTEND;TZID=America/New_York:20211225T190000
DTSTAMP:20260422T113322
CREATED:20221107T172920Z
LAST-MODIFIED:20221220T032443Z
UID:725536-1611597600-1640458800@www.hrnk.org
SUMMARY:The North Korean Abduction Issue: An Update
DESCRIPTION:This event will be held under the Chatham House Rule \nRSVP \nFeaturing: \nDaiji Yamaguchi\nDirector of Policy\, Headquarters for the Abductions Issue\, Government of Japan \nModerator: \nGreg Scarlatoiu\nExecutive Director\, HRNK \nWhen a meeting\, or part thereof\, is held under the Chatham House Rule\, participants are free to use the information received\, but neither the identity nor the affiliation of the speaker(s)\, nor that of any other participant\, may be revealed. \nDirector Daiji Yamaguchi will provide a brief overview and update on the issue of abductions of Japanese citizens and nationals of other countries by North Korea. This virtual event\, conducted via Zoom\, will be open to the public\, including press correspondents. \nThe Zoom credentials will be sent to you shortly before the program. \nPlease email Rosa Park\, HRNK Director of Programs and Editor\, at rosapark@hrnk.org if you have any questions or concerns.
URL:https://www.hrnk.org/event/the-north-korean-abduction-issue-an-update/
LOCATION:Zoom
CATEGORIES:HRNK Events
ATTACH;FMTTYPE=image/png:https://www.hrnk.org/wp-content/uploads/2022/11/Screen-Shot-2021-05-11-at-2_19_12-PM1.png
END:VEVENT
BEGIN:VEVENT
DTSTART;TZID=America/New_York:20210513T160000
DTEND;TZID=America/New_York:20210513T170000
DTSTAMP:20260422T113322
CREATED:20221107T211147Z
LAST-MODIFIED:20221220T020908Z
UID:725593-1620921600-1620925200@www.hrnk.org
SUMMARY:The Biden Administration: Is a North Korean Human Rights Reset Possible?
DESCRIPTION:The Committee for Human Rights in North Korea (HRNK) cordially invites you to: \nHRNK Board Member Speaking Series \n“The Biden Administration: Is a North Korean Human Rights Reset Possible?” \nThursday\, May 13\, 2021\n4:00 p.m. – 5:00 p.m. Eastern Daylight Time (EDT) \nThis event will be on the record. \nFeaturing:  \nDr. Nicholas Eberstadt\nHenry Wendt Chair\, American Enterprise Institute (AEI)\nFounding Board Member\, HRNK \nModerated by: \nGreg Scarlatoiu\nExecutive Director\, HRNK \nCan the Biden administration stop Kim and thwart his nuclear ambitions? Can the Biden administration retake the higher ground once held on North Korean human rights? The answer is yes—if it is serious about doing so. President Biden has the power and the options at his disposal to progressively reduce the North Korean threat. Accomplishing this\, however\, will take a vision and resolve his predecessors lacked—and determination as well not to repeat their mistakes in dealing with Pyongyang. \nThe event will be open to the press\, and on-the-record. Please click here to RSVP.  \nThe Zoom credentials will be sent to you shortly before the program. \nPlease email Rosa Park\, HRNK Director of Programs and Editor\, at rosapark@hrnk.org if you have any questions or concerns.
URL:https://www.hrnk.org/event/the-biden-administration-is-a-north-korean-human-rights-reset-possible/
LOCATION:Zoom\, United States
CATEGORIES:HRNK Events
END:VEVENT
BEGIN:VEVENT
DTSTART;TZID=America/New_York:20210526T160000
DTEND;TZID=America/New_York:20210526T170000
DTSTAMP:20260422T113322
CREATED:20221107T211617Z
LAST-MODIFIED:20221220T020323Z
UID:725599-1622044800-1622048400@www.hrnk.org
SUMMARY:First We Take Pyonghattan\, Then We Take Pyongyang
DESCRIPTION:Description: \nThis event will be on the record. \nFeaturing:  \nMs. Seo-hyun Lee & Mr. Hyeun-seung Lee\nNorth Korean Escapees\nHosts\, “Pyonghattan” YouTube Program \nModerated by: \nGreg Scarlatoiu\nExecutive Director\, HRNK \nNorth Korean escapees Ms. Seo-hyun Lee and Mr. Hyeun-seung Lee will address their life experience in North Korea\, South Korea\, and the United States. The two hosts of the “Pyonghattan” program will discuss the current state of the North Korean economy\, society\, politics\, and human rights as well as North Korean elites and Kim regime dynamics. They will address the potential role of North Korea’s youth and the “Jangmadang Generation” in transforming North Korea moving forward. The speakers will address the importance of empowering the people of North Korea through information from the outside world. After all\, the only way to enact positive change in North Korea is by means of empowering its people through such information. \nPlease click here to RSVP.  \nThe Zoom credentials will be sent to you shortly before the program. \nPlease email Rosa Park\, HRNK Director of Programs and Editor\, at rosapark@hrnk.org if you have any questions or concerns.
URL:https://www.hrnk.org/event/first-we-take-pyonghattan-then-we-take-pyongyang/
LOCATION:Zoom\, United States
CATEGORIES:HRNK Events
ATTACH;FMTTYPE=image/png:https://www.hrnk.org/wp-content/uploads/2022/11/First-We-Take-Pyongyang.png
END:VEVENT
END:VCALENDAR