BEGIN:VCALENDAR
VERSION:2.0
PRODID:-//HRNK - ECPv6.15.20//NONSGML v1.0//EN
CALSCALE:GREGORIAN
METHOD:PUBLISH
X-ORIGINAL-URL:https://www.hrnk.org
X-WR-CALDESC:Events for HRNK
REFRESH-INTERVAL;VALUE=DURATION:PT1H
X-Robots-Tag:noindex
X-PUBLISHED-TTL:PT1H
BEGIN:VTIMEZONE
TZID:America/New_York
BEGIN:DAYLIGHT
TZOFFSETFROM:-0500
TZOFFSETTO:-0400
TZNAME:EDT
DTSTART:20250309T070000
END:DAYLIGHT
BEGIN:STANDARD
TZOFFSETFROM:-0400
TZOFFSETTO:-0500
TZNAME:EST
DTSTART:20251102T060000
END:STANDARD
BEGIN:DAYLIGHT
TZOFFSETFROM:-0500
TZOFFSETTO:-0400
TZNAME:EDT
DTSTART:20260308T070000
END:DAYLIGHT
BEGIN:STANDARD
TZOFFSETFROM:-0400
TZOFFSETTO:-0500
TZNAME:EST
DTSTART:20261101T060000
END:STANDARD
BEGIN:DAYLIGHT
TZOFFSETFROM:-0500
TZOFFSETTO:-0400
TZNAME:EDT
DTSTART:20270314T070000
END:DAYLIGHT
BEGIN:STANDARD
TZOFFSETFROM:-0400
TZOFFSETTO:-0500
TZNAME:EST
DTSTART:20271107T060000
END:STANDARD
END:VTIMEZONE
BEGIN:VEVENT
DTSTART;VALUE=DATE:20260430
DTEND;VALUE=DATE:20260501
DTSTAMP:20260422T205633
CREATED:20260421T151805Z
LAST-MODIFIED:20260422T182956Z
UID:732279-1777507200-1777593599@www.hrnk.org
SUMMARY:THE ANNUAL CONFERENCE OF THE INTERNATIONAL COUNCIL ON KOREAN STUDIES Co-hosted with the Hudson Institute and the Committee for Human Rights in North Korea (HRNK)  CHALLENGES TO THE US-ROK ALLIANCE IN 2026
DESCRIPTION:THE ANNUAL CONFERENCE OF\nTHE INTERNATIONAL COUNCIL ON KOREAN STUDIES\nCo-hosted with the Hudson Institute and the Committee for Human Rights in North Korea (HRNK)CHALLENGES TO THE US-ROK ALLIANCE IN 2026 \n\nThursday\, April 30\, 2026\nThe Hudson Institute\n1201 Pennsylvania Ave\, NW\nSuite 400 Washington\, D.C. 20004The event will be held in person at The Hudson Institute. \n\n\n\n\n\n\n\n\n\n\n\n\n\n\n  \n  \n  \n  \n  \n  \n  \n 
URL:https://www.hrnk.org/event/the-annual-conference-of-the-international-council-on-korean-studies-co-hosted-with-the-hudson-institute-and-the-committee-for-human-rights-in-north-korea-hrnk-challenges-to-the-us-rok-alliance-in/
LOCATION:Hudson Institute\, 1201 Pennsylvania Ave\, NW Suite 400\, Washington\, DC\, 20004\, United States
CATEGORIES:Events,HRNK Events
END:VEVENT
END:VCALENDAR